BEGIN:VCALENDAR
VERSION:2.0
PRODID:-//IG Modulgruppe / Mist Hi - ECPv6.15.20//NONSGML v1.0//EN
CALSCALE:GREGORIAN
METHOD:PUBLISH
X-ORIGINAL-URL:https://mist-hi.de
X-WR-CALDESC:Veranstaltungen für IG Modulgruppe / Mist Hi
REFRESH-INTERVAL;VALUE=DURATION:PT1H
X-Robots-Tag:noindex
X-PUBLISHED-TTL:PT1H
BEGIN:VTIMEZONE
TZID:Europe/Berlin
BEGIN:DAYLIGHT
TZOFFSETFROM:+0100
TZOFFSETTO:+0200
TZNAME:CEST
DTSTART:20220327T010000
END:DAYLIGHT
BEGIN:STANDARD
TZOFFSETFROM:+0200
TZOFFSETTO:+0100
TZNAME:CET
DTSTART:20221030T010000
END:STANDARD
BEGIN:DAYLIGHT
TZOFFSETFROM:+0100
TZOFFSETTO:+0200
TZNAME:CEST
DTSTART:20230326T010000
END:DAYLIGHT
BEGIN:STANDARD
TZOFFSETFROM:+0200
TZOFFSETTO:+0100
TZNAME:CET
DTSTART:20231029T010000
END:STANDARD
BEGIN:DAYLIGHT
TZOFFSETFROM:+0100
TZOFFSETTO:+0200
TZNAME:CEST
DTSTART:20240331T010000
END:DAYLIGHT
BEGIN:STANDARD
TZOFFSETFROM:+0200
TZOFFSETTO:+0100
TZNAME:CET
DTSTART:20241027T010000
END:STANDARD
END:VTIMEZONE
BEGIN:VEVENT
DTSTART;TZID=Europe/Berlin:20230901T100000
DTEND;TZID=Europe/Berlin:20230903T170000
DTSTAMP:20260425T234411
CREATED:20221229T081101Z
LAST-MODIFIED:20221229T081130Z
UID:7498-1693562400-1693760400@mist-hi.de
SUMMARY:5. Waithlinger Modellbautage 2023
DESCRIPTION:
URL:https://mist-hi.de/event/5-waithlinger-modellbautage-2023/
LOCATION:vier Generationen Haus\, Kantallee 8\, Waithlingen\, Deutschland
END:VEVENT
BEGIN:VEVENT
DTSTART;TZID=Europe/Berlin:20230908T180000
DTEND;TZID=Europe/Berlin:20230908T220000
DTSTAMP:20260425T234411
CREATED:20221229T073337Z
LAST-MODIFIED:20221229T073338Z
UID:7479-1694196000-1694210400@mist-hi.de
SUMMARY:Stammtisch September 2023
DESCRIPTION:
URL:https://mist-hi.de/event/stammtisch-september-2023/
LOCATION:Hotel / Gasthaus Ernst\, Godehardstraße 2\, Giesen\, 31180\, Deutschland
END:VEVENT
BEGIN:VEVENT
DTSTART;TZID=Europe/Berlin:20230915T090000
DTEND;TZID=Europe/Berlin:20230917T173000
DTSTAMP:20260425T234411
CREATED:20221229T080641Z
LAST-MODIFIED:20221229T080650Z
UID:7491-1694768400-1694971800@mist-hi.de
SUMMARY:IMA und Märklintage Göppingen 2023
DESCRIPTION:
URL:https://mist-hi.de/event/ima-und-maerklintage-goeppingen/
LOCATION:Märklintage\, Stuttgarter Str.\, Göppingen\, Deutschland
END:VEVENT
BEGIN:VEVENT
DTSTART;TZID=Europe/Berlin:20230929T090000
DTEND;TZID=Europe/Berlin:20231001T173000
DTSTAMP:20260425T234411
CREATED:20221229T080807Z
LAST-MODIFIED:20221229T080808Z
UID:7494-1695978000-1696181400@mist-hi.de
SUMMARY:Modell Hobby Spiel Leipzig 2023
DESCRIPTION:
URL:https://mist-hi.de/event/modell-hobby-spiel-leipzig-2023/
LOCATION:Messen Leipzig\, Messe-Allee 1\, Leipzig\, 04356\, Deutschland
END:VEVENT
END:VCALENDAR