BEGIN:VCALENDAR
VERSION:2.0
PRODID:-//IG Modulgruppe / Mist Hi - ECPv6.15.20//NONSGML v1.0//EN
CALSCALE:GREGORIAN
METHOD:PUBLISH
X-ORIGINAL-URL:https://mist-hi.de
X-WR-CALDESC:Veranstaltungen für IG Modulgruppe / Mist Hi
REFRESH-INTERVAL;VALUE=DURATION:PT1H
X-Robots-Tag:noindex
X-PUBLISHED-TTL:PT1H
BEGIN:VTIMEZONE
TZID:Europe/Berlin
BEGIN:DAYLIGHT
TZOFFSETFROM:+0100
TZOFFSETTO:+0200
TZNAME:CEST
DTSTART:20230326T010000
END:DAYLIGHT
BEGIN:STANDARD
TZOFFSETFROM:+0200
TZOFFSETTO:+0100
TZNAME:CET
DTSTART:20231029T010000
END:STANDARD
BEGIN:DAYLIGHT
TZOFFSETFROM:+0100
TZOFFSETTO:+0200
TZNAME:CEST
DTSTART:20240331T010000
END:DAYLIGHT
BEGIN:STANDARD
TZOFFSETFROM:+0200
TZOFFSETTO:+0100
TZNAME:CET
DTSTART:20241027T010000
END:STANDARD
BEGIN:DAYLIGHT
TZOFFSETFROM:+0100
TZOFFSETTO:+0200
TZNAME:CEST
DTSTART:20250330T010000
END:DAYLIGHT
BEGIN:STANDARD
TZOFFSETFROM:+0200
TZOFFSETTO:+0100
TZNAME:CET
DTSTART:20251026T010000
END:STANDARD
END:VTIMEZONE
BEGIN:VEVENT
DTSTART;TZID=Europe/Berlin:20240303T110000
DTEND;TZID=Europe/Berlin:20240303T150000
DTSTAMP:20260425T142811
CREATED:20240209T095627Z
LAST-MODIFIED:20240209T095628Z
UID:8245-1709463600-1709478000@mist-hi.de
SUMMARY:Modellbahnbörse Hannover März
DESCRIPTION:
URL:https://mist-hi.de/event/modellbahnboerse-hannover-maerz/
LOCATION:Brandboxx Hannover\, Hessenstr. 1\, Hannover - Langenhagen\, 30855
END:VEVENT
BEGIN:VEVENT
DTSTART;TZID=Europe/Berlin:20240308T090000
DTEND;TZID=Europe/Berlin:20240310T180000
DTSTAMP:20260425T142811
CREATED:20240209T092054Z
LAST-MODIFIED:20240209T092202Z
UID:8222-1709888400-1710093600@mist-hi.de
SUMMARY:Faszination Modellbahn 2024 in Mannheim
DESCRIPTION:
URL:https://mist-hi.de/event/faszination-modellbahn-2024-in-mannheim/
LOCATION:Maimarkthalle Mannheim\, Xaver-Fuhr-Straße 101\, Mannheim\, 68163
END:VEVENT
BEGIN:VEVENT
DTSTART;TZID=Europe/Berlin:20240308T180000
DTEND;TZID=Europe/Berlin:20240308T220000
DTSTAMP:20260425T142811
CREATED:20240209T090629Z
LAST-MODIFIED:20240209T090630Z
UID:8197-1709920800-1709935200@mist-hi.de
SUMMARY:Stammtisch März 2024
DESCRIPTION:
URL:https://mist-hi.de/event/stammtisch-maerz-2024/
LOCATION:Hotel / Gasthaus Ernst\, Godehardstraße 2\, Giesen\, 31180\, Deutschland
END:VEVENT
END:VCALENDAR