BEGIN:VCALENDAR
VERSION:2.0
PRODID:-//IG Modulgruppe / Mist Hi - ECPv6.15.20//NONSGML v1.0//EN
CALSCALE:GREGORIAN
METHOD:PUBLISH
X-ORIGINAL-URL:https://mist-hi.de
X-WR-CALDESC:Veranstaltungen für IG Modulgruppe / Mist Hi
REFRESH-INTERVAL;VALUE=DURATION:PT1H
X-Robots-Tag:noindex
X-PUBLISHED-TTL:PT1H
BEGIN:VTIMEZONE
TZID:Europe/Berlin
BEGIN:DAYLIGHT
TZOFFSETFROM:+0100
TZOFFSETTO:+0200
TZNAME:CEST
DTSTART:20230326T010000
END:DAYLIGHT
BEGIN:STANDARD
TZOFFSETFROM:+0200
TZOFFSETTO:+0100
TZNAME:CET
DTSTART:20231029T010000
END:STANDARD
BEGIN:DAYLIGHT
TZOFFSETFROM:+0100
TZOFFSETTO:+0200
TZNAME:CEST
DTSTART:20240331T010000
END:DAYLIGHT
BEGIN:STANDARD
TZOFFSETFROM:+0200
TZOFFSETTO:+0100
TZNAME:CET
DTSTART:20241027T010000
END:STANDARD
BEGIN:DAYLIGHT
TZOFFSETFROM:+0100
TZOFFSETTO:+0200
TZNAME:CEST
DTSTART:20250330T010000
END:DAYLIGHT
BEGIN:STANDARD
TZOFFSETFROM:+0200
TZOFFSETTO:+0100
TZNAME:CET
DTSTART:20251026T010000
END:STANDARD
END:VTIMEZONE
BEGIN:VEVENT
DTSTART;TZID=Europe/Berlin:20240831T100000
DTEND;TZID=Europe/Berlin:20240901T170000
DTSTAMP:20260425T040614
CREATED:20240209T092358Z
LAST-MODIFIED:20240209T092359Z
UID:8227-1725098400-1725210000@mist-hi.de
SUMMARY:6. Wathlinger Modellbautage
DESCRIPTION:Die IG Modulgruppe ist bei dieser Ausstellung mit ihrer Modulanlage dabei.
URL:https://mist-hi.de/event/6-wathlinger-modellbautage/
LOCATION:vier Generationen Haus\, Kantallee 8\, Waithlingen\, Deutschland
END:VEVENT
BEGIN:VEVENT
DTSTART;TZID=Europe/Berlin:20240913T180000
DTEND;TZID=Europe/Berlin:20240913T220000
DTSTAMP:20260425T040614
CREATED:20240209T091113Z
LAST-MODIFIED:20240209T091114Z
UID:8212-1726250400-1726264800@mist-hi.de
SUMMARY:Stammtisch September 2024
DESCRIPTION:
URL:https://mist-hi.de/event/stammtisch-september-2024/
LOCATION:Hotel / Gasthaus Ernst\, Godehardstraße 2\, Giesen\, 31180\, Deutschland
END:VEVENT
BEGIN:VEVENT
DTSTART;TZID=Europe/Berlin:20240927T090000
DTEND;TZID=Europe/Berlin:20240929T180000
DTSTAMP:20260425T040614
CREATED:20240209T093157Z
LAST-MODIFIED:20240209T093159Z
UID:8236-1727427600-1727632800@mist-hi.de
SUMMARY:Hobbymesse Leipzig 2024
DESCRIPTION:
URL:https://mist-hi.de/event/hobbymesse-leipzig-2024/
LOCATION:Messen Leipzig\, Messe-Allee 1\, Leipzig\, 04356\, Deutschland
END:VEVENT
END:VCALENDAR