BEGIN:VCALENDAR
VERSION:2.0
PRODID:-//IG Modulgruppe / Mist Hi - ECPv6.15.20//NONSGML v1.0//EN
CALSCALE:GREGORIAN
METHOD:PUBLISH
X-WR-CALNAME:IG Modulgruppe / Mist Hi
X-ORIGINAL-URL:https://mist-hi.de
X-WR-CALDESC:Veranstaltungen für IG Modulgruppe / Mist Hi
REFRESH-INTERVAL;VALUE=DURATION:PT1H
X-Robots-Tag:noindex
X-PUBLISHED-TTL:PT1H
BEGIN:VTIMEZONE
TZID:Europe/Berlin
BEGIN:DAYLIGHT
TZOFFSETFROM:+0100
TZOFFSETTO:+0200
TZNAME:CEST
DTSTART:20240331T010000
END:DAYLIGHT
BEGIN:STANDARD
TZOFFSETFROM:+0200
TZOFFSETTO:+0100
TZNAME:CET
DTSTART:20241027T010000
END:STANDARD
BEGIN:DAYLIGHT
TZOFFSETFROM:+0100
TZOFFSETTO:+0200
TZNAME:CEST
DTSTART:20250330T010000
END:DAYLIGHT
BEGIN:STANDARD
TZOFFSETFROM:+0200
TZOFFSETTO:+0100
TZNAME:CET
DTSTART:20251026T010000
END:STANDARD
BEGIN:DAYLIGHT
TZOFFSETFROM:+0100
TZOFFSETTO:+0200
TZNAME:CEST
DTSTART:20260329T010000
END:DAYLIGHT
BEGIN:STANDARD
TZOFFSETFROM:+0200
TZOFFSETTO:+0100
TZNAME:CET
DTSTART:20261025T010000
END:STANDARD
END:VTIMEZONE
BEGIN:VEVENT
DTSTART;TZID=Europe/Berlin:20250209T110000
DTEND;TZID=Europe/Berlin:20250209T150000
DTSTAMP:20260424T193416
CREATED:20250111T100907Z
LAST-MODIFIED:20250208T113923Z
UID:8716-1739098800-1739113200@mist-hi.de
SUMMARY:Modellbahnbörse Hannover
DESCRIPTION:
URL:https://mist-hi.de/event/modellbahnboerse-hannover-9/
LOCATION:Brandboxx Hannover\, Hessenstr. 1\, Hannover - Langenhagen\, 30855
END:VEVENT
BEGIN:VEVENT
DTSTART;TZID=Europe/Berlin:20250214T100000
DTEND;TZID=Europe/Berlin:20250216T170000
DTSTAMP:20260424T193416
CREATED:20250111T101946Z
LAST-MODIFIED:20250111T101947Z
UID:8724-1739527200-1739725200@mist-hi.de
SUMMARY:Modell Leben - Die Thüringer Modellbaumesse
DESCRIPTION:
URL:https://mist-hi.de/event/modell-leben-die-thueringer-modellbaumesse/
LOCATION:Messe Erfurt\, Gothaer Straße 34\, Erfurt\, 99094\, Deutschland
END:VEVENT
BEGIN:VEVENT
DTSTART;TZID=Europe/Berlin:20250214T180000
DTEND;TZID=Europe/Berlin:20250214T220000
DTSTAMP:20260424T193416
CREATED:20250111T093341Z
LAST-MODIFIED:20250111T093342Z
UID:8685-1739556000-1739570400@mist-hi.de
SUMMARY:Stammtisch Februar 2025
DESCRIPTION:Motto: Bierwagen / Werbewagen oder alles was gefällt
URL:https://mist-hi.de/event/stammtisch-februar-2025/
LOCATION:Hotel / Gasthaus Ernst\, Godehardstraße 2\, Giesen\, 31180\, Deutschland
END:VEVENT
BEGIN:VEVENT
DTSTART;TZID=Europe/Berlin:20250222T100000
DTEND;TZID=Europe/Berlin:20250223T170000
DTSTAMP:20260424T193416
CREATED:20250111T135651Z
LAST-MODIFIED:20250111T135651Z
UID:8739-1740218400-1740330000@mist-hi.de
SUMMARY:Eisenbahnfreunde Hameln e.V. Schautage 2025
DESCRIPTION:
URL:https://mist-hi.de/event/eisenbahnfreunde-hameln-e-v-schautage-2025/
END:VEVENT
END:VCALENDAR