BEGIN:VCALENDAR
VERSION:2.0
PRODID:-//IG Modulgruppe / Mist Hi - ECPv6.15.20//NONSGML v1.0//EN
CALSCALE:GREGORIAN
METHOD:PUBLISH
X-ORIGINAL-URL:https://mist-hi.de
X-WR-CALDESC:Veranstaltungen für IG Modulgruppe / Mist Hi
REFRESH-INTERVAL;VALUE=DURATION:PT1H
X-Robots-Tag:noindex
X-PUBLISHED-TTL:PT1H
BEGIN:VTIMEZONE
TZID:Europe/Berlin
BEGIN:DAYLIGHT
TZOFFSETFROM:+0100
TZOFFSETTO:+0200
TZNAME:CEST
DTSTART:20240331T010000
END:DAYLIGHT
BEGIN:STANDARD
TZOFFSETFROM:+0200
TZOFFSETTO:+0100
TZNAME:CET
DTSTART:20241027T010000
END:STANDARD
BEGIN:DAYLIGHT
TZOFFSETFROM:+0100
TZOFFSETTO:+0200
TZNAME:CEST
DTSTART:20250330T010000
END:DAYLIGHT
BEGIN:STANDARD
TZOFFSETFROM:+0200
TZOFFSETTO:+0100
TZNAME:CET
DTSTART:20251026T010000
END:STANDARD
BEGIN:DAYLIGHT
TZOFFSETFROM:+0100
TZOFFSETTO:+0200
TZNAME:CEST
DTSTART:20260329T010000
END:DAYLIGHT
BEGIN:STANDARD
TZOFFSETFROM:+0200
TZOFFSETTO:+0100
TZNAME:CET
DTSTART:20261025T010000
END:STANDARD
END:VTIMEZONE
BEGIN:VEVENT
DTSTART;TZID=Europe/Berlin:20250509T180000
DTEND;TZID=Europe/Berlin:20250509T220000
DTSTAMP:20260424T145724
CREATED:20250111T093711Z
LAST-MODIFIED:20250208T114929Z
UID:8691-1746813600-1746828000@mist-hi.de
SUMMARY:Stammtisch Mai 2025
DESCRIPTION:Mai: Güterzüge alle Epochen oder alles was gefällt
URL:https://mist-hi.de/event/stammtisch-mai-2025/
LOCATION:Hotel / Gasthaus Ernst\, Godehardstraße 2\, Giesen\, 31180\, Deutschland
END:VEVENT
BEGIN:VEVENT
DTSTART;TZID=Europe/Berlin:20250518T110000
DTEND;TZID=Europe/Berlin:20250518T150000
DTSTAMP:20260424T145724
CREATED:20250111T101043Z
LAST-MODIFIED:20250208T114906Z
UID:8720-1747566000-1747580400@mist-hi.de
SUMMARY:Modellbahnbörse Hannover
DESCRIPTION:
URL:https://mist-hi.de/event/modellbahnboerse-hannover-11/
LOCATION:Brandboxx Hannover\, Hessenstr. 1\, Hannover - Langenhagen\, 30855
END:VEVENT
END:VCALENDAR