BEGIN:VCALENDAR
VERSION:2.0
PRODID:-//IG Modulgruppe / Mist Hi - ECPv6.15.20//NONSGML v1.0//EN
CALSCALE:GREGORIAN
METHOD:PUBLISH
X-ORIGINAL-URL:https://mist-hi.de
X-WR-CALDESC:Veranstaltungen für IG Modulgruppe / Mist Hi
REFRESH-INTERVAL;VALUE=DURATION:PT1H
X-Robots-Tag:noindex
X-PUBLISHED-TTL:PT1H
BEGIN:VTIMEZONE
TZID:Europe/Berlin
BEGIN:DAYLIGHT
TZOFFSETFROM:+0100
TZOFFSETTO:+0200
TZNAME:CEST
DTSTART:20240331T010000
END:DAYLIGHT
BEGIN:STANDARD
TZOFFSETFROM:+0200
TZOFFSETTO:+0100
TZNAME:CET
DTSTART:20241027T010000
END:STANDARD
BEGIN:DAYLIGHT
TZOFFSETFROM:+0100
TZOFFSETTO:+0200
TZNAME:CEST
DTSTART:20250330T010000
END:DAYLIGHT
BEGIN:STANDARD
TZOFFSETFROM:+0200
TZOFFSETTO:+0100
TZNAME:CET
DTSTART:20251026T010000
END:STANDARD
BEGIN:DAYLIGHT
TZOFFSETFROM:+0100
TZOFFSETTO:+0200
TZNAME:CEST
DTSTART:20260329T010000
END:DAYLIGHT
BEGIN:STANDARD
TZOFFSETFROM:+0200
TZOFFSETTO:+0100
TZNAME:CET
DTSTART:20261025T010000
END:STANDARD
END:VTIMEZONE
BEGIN:VEVENT
DTSTART;TZID=Europe/Berlin:20251212T180000
DTEND;TZID=Europe/Berlin:20251212T220000
DTSTAMP:20260420T174652
CREATED:20250111T094515Z
LAST-MODIFIED:20250111T094516Z
UID:8710-1765562400-1765576800@mist-hi.de
SUMMARY:Stammtisch Dezember 2025 - Weihnachtsstammtisch
DESCRIPTION:Motto: alles Rund um Weihnachten oder alles was gefällt
URL:https://mist-hi.de/event/stammtisch-dezember-2025-weihnachtsstammtisch/
LOCATION:Hotel / Gasthaus Ernst\, Godehardstraße 2\, Giesen\, 31180\, Deutschland
END:VEVENT
END:VCALENDAR