BEGIN:VCALENDAR
VERSION:2.0
PRODID:-//IG Modulgruppe / Mist Hi - ECPv6.15.20//NONSGML v1.0//EN
CALSCALE:GREGORIAN
METHOD:PUBLISH
X-ORIGINAL-URL:https://mist-hi.de
X-WR-CALDESC:Veranstaltungen für IG Modulgruppe / Mist Hi
REFRESH-INTERVAL;VALUE=DURATION:PT1H
X-Robots-Tag:noindex
X-PUBLISHED-TTL:PT1H
BEGIN:VTIMEZONE
TZID:Europe/Berlin
BEGIN:DAYLIGHT
TZOFFSETFROM:+0100
TZOFFSETTO:+0200
TZNAME:CEST
DTSTART:20250330T010000
END:DAYLIGHT
BEGIN:STANDARD
TZOFFSETFROM:+0200
TZOFFSETTO:+0100
TZNAME:CET
DTSTART:20251026T010000
END:STANDARD
BEGIN:DAYLIGHT
TZOFFSETFROM:+0100
TZOFFSETTO:+0200
TZNAME:CEST
DTSTART:20260329T010000
END:DAYLIGHT
BEGIN:STANDARD
TZOFFSETFROM:+0200
TZOFFSETTO:+0100
TZNAME:CET
DTSTART:20261025T010000
END:STANDARD
BEGIN:DAYLIGHT
TZOFFSETFROM:+0100
TZOFFSETTO:+0200
TZNAME:CEST
DTSTART:20270328T010000
END:DAYLIGHT
BEGIN:STANDARD
TZOFFSETFROM:+0200
TZOFFSETTO:+0100
TZNAME:CET
DTSTART:20271031T010000
END:STANDARD
END:VTIMEZONE
BEGIN:VEVENT
DTSTART;TZID=Europe/Berlin:20260201T110000
DTEND;TZID=Europe/Berlin:20260201T150000
DTSTAMP:20260420T145027
CREATED:20251230T204838Z
LAST-MODIFIED:20251230T204839Z
UID:9011-1769943600-1769958000@mist-hi.de
SUMMARY:Modellbahnbörse Hannover
DESCRIPTION:
URL:https://mist-hi.de/event/modellbahnboerse-hannover-13/
LOCATION:Brandboxx Hannover\, Hessenstr. 1\, Hannover - Langenhagen\, 30855
END:VEVENT
BEGIN:VEVENT
DTSTART;TZID=Europe/Berlin:20260206T100000
DTEND;TZID=Europe/Berlin:20260208T170000
DTSTAMP:20260420T145027
CREATED:20251230T203446Z
LAST-MODIFIED:20251230T205536Z
UID:8993-1770372000-1770570000@mist-hi.de
SUMMARY:Erlebnis Modellbahn Dresden
DESCRIPTION:
URL:https://mist-hi.de/event/erlebnis-modellbahn-dresden/
END:VEVENT
BEGIN:VEVENT
DTSTART;TZID=Europe/Berlin:20260213T100000
DTEND;TZID=Europe/Berlin:20260215T170000
DTSTAMP:20260420T145027
CREATED:20251230T203645Z
LAST-MODIFIED:20251230T205749Z
UID:8995-1770976800-1771174800@mist-hi.de
SUMMARY:Modell Leben Erfurt
DESCRIPTION:
URL:https://mist-hi.de/event/modell-leben-erfurt/
LOCATION:er
END:VEVENT
BEGIN:VEVENT
DTSTART;TZID=Europe/Berlin:20260213T180000
DTEND;TZID=Europe/Berlin:20260213T220000
DTSTAMP:20260420T145027
CREATED:20251230T200732Z
LAST-MODIFIED:20251230T200732Z
UID:8964-1771005600-1771020000@mist-hi.de
SUMMARY:Stammtisch Februar 2026
DESCRIPTION:
URL:https://mist-hi.de/event/stammtisch-februar-2026/
LOCATION:Hotel / Gasthaus Ernst\, Godehardstraße 2\, Giesen\, 31180\, Deutschland
END:VEVENT
END:VCALENDAR