BEGIN:VCALENDAR
VERSION:2.0
PRODID:-//IG Modulgruppe / Mist Hi - ECPv6.15.20//NONSGML v1.0//EN
CALSCALE:GREGORIAN
METHOD:PUBLISH
X-ORIGINAL-URL:https://mist-hi.de
X-WR-CALDESC:Veranstaltungen für IG Modulgruppe / Mist Hi
REFRESH-INTERVAL;VALUE=DURATION:PT1H
X-Robots-Tag:noindex
X-PUBLISHED-TTL:PT1H
BEGIN:VTIMEZONE
TZID:Europe/Berlin
BEGIN:DAYLIGHT
TZOFFSETFROM:+0100
TZOFFSETTO:+0200
TZNAME:CEST
DTSTART:20250330T010000
END:DAYLIGHT
BEGIN:STANDARD
TZOFFSETFROM:+0200
TZOFFSETTO:+0100
TZNAME:CET
DTSTART:20251026T010000
END:STANDARD
BEGIN:DAYLIGHT
TZOFFSETFROM:+0100
TZOFFSETTO:+0200
TZNAME:CEST
DTSTART:20260329T010000
END:DAYLIGHT
BEGIN:STANDARD
TZOFFSETFROM:+0200
TZOFFSETTO:+0100
TZNAME:CET
DTSTART:20261025T010000
END:STANDARD
BEGIN:DAYLIGHT
TZOFFSETFROM:+0100
TZOFFSETTO:+0200
TZNAME:CEST
DTSTART:20270328T010000
END:DAYLIGHT
BEGIN:STANDARD
TZOFFSETFROM:+0200
TZOFFSETTO:+0100
TZNAME:CET
DTSTART:20271031T010000
END:STANDARD
END:VTIMEZONE
BEGIN:VEVENT
DTSTART;TZID=Europe/Berlin:20260306T100000
DTEND;TZID=Europe/Berlin:20260308T170000
DTSTAMP:20260420T132455
CREATED:20251230T203802Z
LAST-MODIFIED:20251230T203803Z
UID:8999-1772791200-1772989200@mist-hi.de
SUMMARY:Faszination Modellbahn Mannheim
DESCRIPTION:
URL:https://mist-hi.de/event/faszination-modellbahn-mannheim-2/
LOCATION:Maimarkthalle Mannheim\, Xaver-Fuhr-Straße 101\, Mannheim\, 68163
END:VEVENT
BEGIN:VEVENT
DTSTART;TZID=Europe/Berlin:20260313T180000
DTEND;TZID=Europe/Berlin:20260313T220000
DTSTAMP:20260420T132455
CREATED:20251230T200828Z
LAST-MODIFIED:20251230T200829Z
UID:8966-1773424800-1773439200@mist-hi.de
SUMMARY:Stammtisch März 2026
DESCRIPTION:Motto: Kesselwagen oder alles was gefällt
URL:https://mist-hi.de/event/stammtisch-maerz-2026/
LOCATION:Hotel / Gasthaus Ernst\, Godehardstraße 2\, Giesen\, 31180\, Deutschland
END:VEVENT
BEGIN:VEVENT
DTSTART;TZID=Europe/Berlin:20260315T110000
DTEND;TZID=Europe/Berlin:20260315T150000
DTSTAMP:20260420T132455
CREATED:20251230T205003Z
LAST-MODIFIED:20251230T205004Z
UID:9013-1773572400-1773586800@mist-hi.de
SUMMARY:Modellbahnbörse Hannover
DESCRIPTION:
URL:https://mist-hi.de/event/modellbahnboerse-hannover-14/
LOCATION:Brandboxx Hannover\, Hessenstr. 1\, Hannover - Langenhagen\, 30855
END:VEVENT
BEGIN:VEVENT
DTSTART;TZID=Europe/Berlin:20260321T100000
DTEND;TZID=Europe/Berlin:20260322T170000
DTSTAMP:20260420T132455
CREATED:20251230T203858Z
LAST-MODIFIED:20251230T203859Z
UID:9001-1774087200-1774198800@mist-hi.de
SUMMARY:Internationale Spur 0 und 1 Tage Gießen
DESCRIPTION:
URL:https://mist-hi.de/event/internationale-spur-0-und-1-tage-giessen/
END:VEVENT
END:VCALENDAR