BEGIN:VCALENDAR
VERSION:2.0
PRODID:-//IG Modulgruppe / Mist Hi - ECPv6.15.20//NONSGML v1.0//EN
CALSCALE:GREGORIAN
METHOD:PUBLISH
X-ORIGINAL-URL:https://mist-hi.de
X-WR-CALDESC:Veranstaltungen für IG Modulgruppe / Mist Hi
REFRESH-INTERVAL;VALUE=DURATION:PT1H
X-Robots-Tag:noindex
X-PUBLISHED-TTL:PT1H
BEGIN:VTIMEZONE
TZID:Europe/Berlin
BEGIN:DAYLIGHT
TZOFFSETFROM:+0100
TZOFFSETTO:+0200
TZNAME:CEST
DTSTART:20250330T010000
END:DAYLIGHT
BEGIN:STANDARD
TZOFFSETFROM:+0200
TZOFFSETTO:+0100
TZNAME:CET
DTSTART:20251026T010000
END:STANDARD
BEGIN:DAYLIGHT
TZOFFSETFROM:+0100
TZOFFSETTO:+0200
TZNAME:CEST
DTSTART:20260329T010000
END:DAYLIGHT
BEGIN:STANDARD
TZOFFSETFROM:+0200
TZOFFSETTO:+0100
TZNAME:CET
DTSTART:20261025T010000
END:STANDARD
BEGIN:DAYLIGHT
TZOFFSETFROM:+0100
TZOFFSETTO:+0200
TZNAME:CEST
DTSTART:20270328T010000
END:DAYLIGHT
BEGIN:STANDARD
TZOFFSETFROM:+0200
TZOFFSETTO:+0100
TZNAME:CET
DTSTART:20271031T010000
END:STANDARD
END:VTIMEZONE
BEGIN:VEVENT
DTSTART;TZID=Europe/Berlin:20261030T100000
DTEND;TZID=Europe/Berlin:20261101T170000
DTSTAMP:20260420T212356
CREATED:20251230T204357Z
LAST-MODIFIED:20251230T204359Z
UID:9007-1793354400-1793552400@mist-hi.de
SUMMARY:41. Internationale Modellbahn-Ausstellung Friedrichshafen
DESCRIPTION:
URL:https://mist-hi.de/event/41-internationale-modellbahn-ausstellung-friedrichshafen/
LOCATION:Messe Friedrichshafen\, Neue Messe 1\, Friedrichshafen\, 88046\, Deutschland
END:VEVENT
BEGIN:VEVENT
DTSTART;TZID=Europe/Berlin:20261113T180000
DTEND;TZID=Europe/Berlin:20261113T220000
DTSTAMP:20260420T212356
CREATED:20251230T201759Z
LAST-MODIFIED:20251230T201759Z
UID:8982-1794592800-1794607200@mist-hi.de
SUMMARY:Stammtisch November 2026
DESCRIPTION:Motto: Alles aus Epochen 3 oder alles was gefällt
URL:https://mist-hi.de/event/stammtisch-november-2026/
LOCATION:Hotel / Gasthaus Ernst\, Godehardstraße 2\, Giesen\, 31180\, Deutschland
END:VEVENT
END:VCALENDAR